BEGIN:VCALENDAR
VERSION:2.0
PRODID:-//Conserve Wildlife Foundation of NJ - ECPv6.15.20//NONSGML v1.0//EN
CALSCALE:GREGORIAN
METHOD:PUBLISH
X-WR-CALNAME:Conserve Wildlife Foundation of NJ
X-ORIGINAL-URL:https://conservewildlifenj.org
X-WR-CALDESC:Events for Conserve Wildlife Foundation of NJ
REFRESH-INTERVAL;VALUE=DURATION:PT1H
X-Robots-Tag:noindex
X-PUBLISHED-TTL:PT1H
BEGIN:VTIMEZONE
TZID:America/New_York
BEGIN:DAYLIGHT
TZOFFSETFROM:-0500
TZOFFSETTO:-0400
TZNAME:EDT
DTSTART:20240310T070000
END:DAYLIGHT
BEGIN:STANDARD
TZOFFSETFROM:-0400
TZOFFSETTO:-0500
TZNAME:EST
DTSTART:20241103T060000
END:STANDARD
BEGIN:DAYLIGHT
TZOFFSETFROM:-0500
TZOFFSETTO:-0400
TZNAME:EDT
DTSTART:20250309T070000
END:DAYLIGHT
BEGIN:STANDARD
TZOFFSETFROM:-0400
TZOFFSETTO:-0500
TZNAME:EST
DTSTART:20251102T060000
END:STANDARD
BEGIN:DAYLIGHT
TZOFFSETFROM:-0500
TZOFFSETTO:-0400
TZNAME:EDT
DTSTART:20260308T070000
END:DAYLIGHT
BEGIN:STANDARD
TZOFFSETFROM:-0400
TZOFFSETTO:-0500
TZNAME:EST
DTSTART:20261101T060000
END:STANDARD
END:VTIMEZONE
BEGIN:VEVENT
DTSTART;TZID=America/New_York:20250306T160000
DTEND;TZID=America/New_York:20250306T170000
DTSTAMP:20260424T131548
CREATED:20250115T201604Z
LAST-MODIFIED:20250115T201907Z
UID:21270-1741276800-1741280400@conservewildlifenj.org
SUMMARY:Species on the Edge 2.0: Virtual Information Session
DESCRIPTION:Join CWF Staff for this virtual information session about the Species on the Edge 2.0 Conservation Challenge. This is where you can ask questions to biologists who work with rare wildlife in New Jersey before registering your team and to help develop your project. \nScan the QR code above or use this link to register for the virtual information session on March 6 at 4:00pm\, which will be recorded for those who can’t attend and posted to our YouTube channel afterwards.
URL:https://conservewildlifenj.org/event/species-on-the-edge-2-0-virtual-information-session/
ATTACH;FMTTYPE=image/png:https://conservewildlifenj.org/wp-content/uploads/2025/01/SOTE-2.0_February-Information-Session.png
END:VEVENT
END:VCALENDAR